BEGIN:VCALENDAR
VERSION:2.0
PRODID:-//Center for Mind &amp; Cognition - ECPv6.15.20//NONSGML v1.0//EN
CALSCALE:GREGORIAN
METHOD:PUBLISH
X-WR-CALNAME:Center for Mind &amp; Cognition
X-ORIGINAL-URL:https://philosophy-cognition.com/cmc
X-WR-CALDESC:Events for Center for Mind &amp; Cognition
REFRESH-INTERVAL;VALUE=DURATION:PT1H
X-Robots-Tag:noindex
X-PUBLISHED-TTL:PT1H
BEGIN:VTIMEZONE
TZID:Europe/Berlin
BEGIN:DAYLIGHT
TZOFFSETFROM:+0100
TZOFFSETTO:+0200
TZNAME:CEST
DTSTART:20250330T010000
END:DAYLIGHT
BEGIN:STANDARD
TZOFFSETFROM:+0200
TZOFFSETTO:+0100
TZNAME:CET
DTSTART:20251026T010000
END:STANDARD
BEGIN:DAYLIGHT
TZOFFSETFROM:+0100
TZOFFSETTO:+0200
TZNAME:CEST
DTSTART:20260329T010000
END:DAYLIGHT
BEGIN:STANDARD
TZOFFSETFROM:+0200
TZOFFSETTO:+0100
TZNAME:CET
DTSTART:20261025T010000
END:STANDARD
BEGIN:DAYLIGHT
TZOFFSETFROM:+0100
TZOFFSETTO:+0200
TZNAME:CEST
DTSTART:20270328T010000
END:DAYLIGHT
BEGIN:STANDARD
TZOFFSETFROM:+0200
TZOFFSETTO:+0100
TZNAME:CET
DTSTART:20271031T010000
END:STANDARD
END:VTIMEZONE
BEGIN:VEVENT
DTSTART;TZID=Europe/Berlin:20260623T160000
DTEND;TZID=Europe/Berlin:20260623T180000
DTSTAMP:20260423T003455
CREATED:20260316T112833Z
LAST-MODIFIED:20260316T112833Z
UID:6360-1782230400-1782237600@philosophy-cognition.com
SUMMARY:Neuropsychology Maike Kneist (RUB) Effects of transcutaneous auricular vagus nerve stimulation on cognitive emotion regulation
DESCRIPTION:Research Colloquium „Cognitive Psychology and Psychoneuroendocrinology“  \nSuSe 2026 \nTue 16:15-17:45 \nIB 6 /127 (Hybrid) \nhttps://ruhr-uni-bochum.zoom-x.de/j/61764573363?pwd=82lJBMFJlAJ9aLJW2hnbnRqaQy2Y9X.1 \nMeeting-ID: 617 6457 3363; Passwort: 219666
URL:https://philosophy-cognition.com/cmc/event/neuropsychology-maike-kneist-rub-effects-of-transcutaneous-auricular-vagus-nerve-stimulation-on-cognitive-emotion-regulation/
LOCATION:IB 6/127 & Zoom
CATEGORIES:Colloquium
END:VEVENT
BEGIN:VEVENT
DTSTART;TZID=Europe/Berlin:20260624T120000
DTEND;TZID=Europe/Berlin:20260624T140000
DTSTAMP:20260423T003455
CREATED:20260417T092754Z
LAST-MODIFIED:20260417T094624Z
UID:6439-1782302400-1782309600@philosophy-cognition.com
SUMMARY:Philosophy Sven Nyholm (LMU Munich) Artificial Intelligence: The Term\, The Concept\, and the Property
DESCRIPTION:Kolloquium des Instituts für Philosophie II \nhttps://ruhr-uni-bochum.zoom-x.de/j/62005024610?pwd=b66VI1rLtSePHgiIk84BJ7fuS6bWT7.1 \nMeeting-ID: 620 0502 4610 | Passwort: 244959
URL:https://philosophy-cognition.com/cmc/event/philosophy-sven-nyholm-lmu-munich-artificial-intelligence-the-term-the-concept-and-the-property/
LOCATION:GA 1/128 & Zoom\, Universitätsstr. 150\, Bochum\, 44801\, Germany
CATEGORIES:Colloquium
END:VEVENT
BEGIN:VEVENT
DTSTART;TZID=Europe/Berlin:20260624T180000
DTEND;TZID=Europe/Berlin:20260624T200000
DTSTAMP:20260423T003455
CREATED:20260422T082857Z
LAST-MODIFIED:20260422T082857Z
UID:6496-1782324000-1782331200@philosophy-cognition.com
SUMMARY:Philosophy Nina Poth (Radboud University\, Nijmegen) & Annika Schuster (Universität Dortmund) Mental\, Scientific\, and Artificial Representations
DESCRIPTION:Representations in Minds\, Brains\, and AI \n18:00-20:00 CET \nZoom Lecture \nhttps://ruhr-uni-bochum.zoom-x.de/j/64692924755?pwd=803uh1OEPBkBrEONeL87zJFudGjlw7.1 \nMeeting-ID: 646 9292 4755 | Passwort: 531564
URL:https://philosophy-cognition.com/cmc/event/philosophy-nina-poth-radboud-university-nijmegen-annika-schuster-universitat-dortmund-mental-scientific-and-artificial-representations/
LOCATION:Online via Zoom
END:VEVENT
BEGIN:VEVENT
DTSTART;TZID=Europe/Berlin:20260629T150000
DTEND;TZID=Europe/Berlin:20260629T180000
DTSTAMP:20260423T003455
CREATED:20260316T105927Z
LAST-MODIFIED:20260316T105927Z
UID:6346-1782745200-1782756000@philosophy-cognition.com
SUMMARY:IGSN Symposium: Small-Fiber Neuropathy: Mechanisms\, Diagnostics\, and Therapeutic Frontiers
DESCRIPTION:Speakers: Praveen Anand\, Wolfgang Greffrath\, Andreas Leffler \nHost: Baffour Kyei Sarpong
URL:https://philosophy-cognition.com/cmc/event/igsn-symposium-small-fiber-neuropathy-mechanisms-diagnostics-and-therapeutic-frontiers/
LOCATION:FNO 01/117\, Universitätsstr. 150\, Bochum\, NRW\, 44801\, Germany
CATEGORIES:Symposium
END:VEVENT
BEGIN:VEVENT
DTSTART;TZID=Europe/Berlin:20260630T160000
DTEND;TZID=Europe/Berlin:20260630T180000
DTSTAMP:20260423T003455
CREATED:20260316T114519Z
LAST-MODIFIED:20260316T114519Z
UID:6362-1782835200-1782842400@philosophy-cognition.com
SUMMARY:Psychoneuroendocrinology Samuel Bosbach & Dirk Moser (RUB) Comparison of salivary collection methods for cortisol and alpha-amylase assessment during acute exercise
DESCRIPTION:Research Colloquium „Cognitive Psychology and Psychoneuroendocrinology“  \nSuSe 2026 \nTue 16:15-17:45 \nIB 6 /127 (Hybrid) \nhttps://ruhr-uni-bochum.zoom-x.de/j/61764573363?pwd=82lJBMFJlAJ9aLJW2hnbnRqaQy2Y9X.1 \nMeeting-ID: 617 6457 3363; Passwort: 219666
URL:https://philosophy-cognition.com/cmc/event/psychoneuroendocrinology-samuel-bosbach-dirk-moser-rub-comparison-of-salivary-collection-methods-for-cortisol-and-alpha-amylase-assessment-during-acute-exercise/
LOCATION:IB 6/127 & Zoom
CATEGORIES:Colloquium
END:VEVENT
BEGIN:VEVENT
DTSTART;TZID=Europe/Berlin:20260701T180000
DTEND;TZID=Europe/Berlin:20260701T200000
DTSTAMP:20260423T003455
CREATED:20260422T083206Z
LAST-MODIFIED:20260422T083206Z
UID:6498-1782928800-1782936000@philosophy-cognition.com
SUMMARY:Philosophy Lotem Elber-Dorozko (Hebrew University of Jerusalem) & Devin Gouvêa (College of the Holy Cross) "Neural Representation" is not a Defective Concept
DESCRIPTION:Representations in Minds\, Brains\, and AI \n18:00-20:00 CET \nZoom Lecture \nhttps://ruhr-uni-bochum.zoom-x.de/j/64692924755?pwd=803uh1OEPBkBrEONeL87zJFudGjlw7.1 \nMeeting-ID: 646 9292 4755 | Passwort: 531564
URL:https://philosophy-cognition.com/cmc/event/philosophy-lotem-elber-dorozko-hebrew-university-of-jerusalem-devin-gouvea-college-of-the-holy-cross-neural-representation-is-not-a-defective-concept/
LOCATION:Online via Zoom
END:VEVENT
BEGIN:VEVENT
DTSTART;TZID=Europe/Berlin:20260707T120000
DTEND;TZID=Europe/Berlin:20260707T140000
DTSTAMP:20260423T003455
CREATED:20260421T130750Z
LAST-MODIFIED:20260421T130750Z
UID:6472-1783425600-1783432800@philosophy-cognition.com
SUMMARY:Philosophy Santiago Amaya (Rice University) TBA
DESCRIPTION:Bochum-Grenoble-Taipei Memory Colloquium\n12:15-13:45 Central European Summer Time \nZoom \nhttps://univ-grenoble-alpes-fr.zoom.us/j/98859063721?pwd=6Xx6tmUpCSaSD4BkF4bPGhrxSuca5t.1 \nmeeting ID: 988 5906 3721 \npassword: 302355
URL:https://philosophy-cognition.com/cmc/event/philosophy-santiago-amaya-rice-university-tba/
LOCATION:Online via Zoom
END:VEVENT
BEGIN:VEVENT
DTSTART;TZID=Europe/Berlin:20260708T180000
DTEND;TZID=Europe/Berlin:20260708T200000
DTSTAMP:20260423T003455
CREATED:20260422T083350Z
LAST-MODIFIED:20260422T083350Z
UID:6500-1783533600-1783540800@philosophy-cognition.com
SUMMARY:Philosophy Zina B. Ward (Florida State University)Directive Representation and the Job Description Challenge
DESCRIPTION:Representations in Minds\, Brains\, and AI \n18:00-20:00 CET \nZoom Lecture \nhttps://ruhr-uni-bochum.zoom-x.de/j/64692924755?pwd=803uh1OEPBkBrEONeL87zJFudGjlw7.1 \nMeeting-ID: 646 9292 4755 | Passwort: 531564
URL:https://philosophy-cognition.com/cmc/event/philosophy-zina-b-ward-florida-state-universitydirective-representation-and-the-job-description-challenge/
LOCATION:Online via Zoom
END:VEVENT
BEGIN:VEVENT
DTSTART;TZID=Europe/Berlin:20260714T160000
DTEND;TZID=Europe/Berlin:20260714T180000
DTSTAMP:20260423T003455
CREATED:20260316T114843Z
LAST-MODIFIED:20260316T114843Z
UID:6364-1784044800-1784052000@philosophy-cognition.com
SUMMARY:Psychology Lisa Wirz (Donders Institute) Training reappraisal under stress
DESCRIPTION:Research Colloquium „Cognitive Psychology and Psychoneuroendocrinology“  \nSuSe 2026 \nTue 16:15-17:45 \nIB 6 /127 (Hybrid) \nhttps://ruhr-uni-bochum.zoom-x.de/j/61764573363?pwd=82lJBMFJlAJ9aLJW2hnbnRqaQy2Y9X.1 \nMeeting-ID: 617 6457 3363; Passwort: 219666
URL:https://philosophy-cognition.com/cmc/event/psychology-lisa-wirz-donders-institute-training-reappraisal-under-stress/
LOCATION:IB 6/127 & Zoom
CATEGORIES:Colloquium
END:VEVENT
BEGIN:VEVENT
DTSTART;TZID=Europe/Berlin:20260715T180000
DTEND;TZID=Europe/Berlin:20260715T200000
DTSTAMP:20260423T003455
CREATED:20260422T083628Z
LAST-MODIFIED:20260422T083628Z
UID:6502-1784138400-1784145600@philosophy-cognition.com
SUMMARY:Philosophy Krzysztof Dolega (Ruhr-University Bochum) The Gloss on the Machine: Egan's Representations in Mechanistic Explanation
DESCRIPTION:Representations in Minds\, Brains\, and AI \n18:00-20:00 CET \nZoom Lecture \nhttps://ruhr-uni-bochum.zoom-x.de/j/64692924755?pwd=803uh1OEPBkBrEONeL87zJFudGjlw7.1 \nMeeting-ID: 646 9292 4755 | Passwort: 531564
URL:https://philosophy-cognition.com/cmc/event/philosophy-krzysztof-dolega-ruhr-university-bochum-the-gloss-on-the-machine-egans-representations-in-mechanistic-explanation/
LOCATION:Online via Zoom
END:VEVENT
END:VCALENDAR