BEGIN:VCALENDAR
VERSION:2.0
PRODID:-//Center for Mind &amp; Cognition - ECPv6.15.20//NONSGML v1.0//EN
CALSCALE:GREGORIAN
METHOD:PUBLISH
X-ORIGINAL-URL:https://philosophy-cognition.com/cmc
X-WR-CALDESC:Events for Center for Mind &amp; Cognition
REFRESH-INTERVAL;VALUE=DURATION:PT1H
X-Robots-Tag:noindex
X-PUBLISHED-TTL:PT1H
BEGIN:VTIMEZONE
TZID:Europe/Berlin
BEGIN:DAYLIGHT
TZOFFSETFROM:+0100
TZOFFSETTO:+0200
TZNAME:CEST
DTSTART:20250330T010000
END:DAYLIGHT
BEGIN:STANDARD
TZOFFSETFROM:+0200
TZOFFSETTO:+0100
TZNAME:CET
DTSTART:20251026T010000
END:STANDARD
BEGIN:DAYLIGHT
TZOFFSETFROM:+0100
TZOFFSETTO:+0200
TZNAME:CEST
DTSTART:20260329T010000
END:DAYLIGHT
BEGIN:STANDARD
TZOFFSETFROM:+0200
TZOFFSETTO:+0100
TZNAME:CET
DTSTART:20261025T010000
END:STANDARD
BEGIN:DAYLIGHT
TZOFFSETFROM:+0100
TZOFFSETTO:+0200
TZNAME:CEST
DTSTART:20270328T010000
END:DAYLIGHT
BEGIN:STANDARD
TZOFFSETFROM:+0200
TZOFFSETTO:+0100
TZNAME:CET
DTSTART:20271031T010000
END:STANDARD
END:VTIMEZONE
BEGIN:VEVENT
DTSTART;TZID=Europe/Berlin:20260129T100000
DTEND;TZID=Europe/Berlin:20260130T180000
DTSTAMP:20260422T184724
CREATED:20250908T125453Z
LAST-MODIFIED:20250922T112007Z
UID:5290-1769680800-1769796000@philosophy-cognition.com
SUMMARY:Workshop with Hedda Hassel Morch: Panpsychism\, Non-Physicalism\, & the Causal Powers of Consciousness
DESCRIPTION:
URL:https://philosophy-cognition.com/cmc/event/workshop-with-hedda-hassel-morch-panpsychism-non-physicalism-the-causal-powers-of-consciousness/
LOCATION:RUB\, Universitätsstr. 150\, Bochum\, 44801\, Germany
CATEGORIES:Workshop
END:VEVENT
END:VCALENDAR