BEGIN:VCALENDAR
VERSION:2.0
PRODID:-//Center for Mind &amp; Cognition - ECPv6.15.20//NONSGML v1.0//EN
CALSCALE:GREGORIAN
METHOD:PUBLISH
X-WR-CALNAME:Center for Mind &amp; Cognition
X-ORIGINAL-URL:https://philosophy-cognition.com/cmc
X-WR-CALDESC:Events for Center for Mind &amp; Cognition
REFRESH-INTERVAL;VALUE=DURATION:PT1H
X-Robots-Tag:noindex
X-PUBLISHED-TTL:PT1H
BEGIN:VTIMEZONE
TZID:Europe/Berlin
BEGIN:DAYLIGHT
TZOFFSETFROM:+0100
TZOFFSETTO:+0200
TZNAME:CEST
DTSTART:20240331T010000
END:DAYLIGHT
BEGIN:STANDARD
TZOFFSETFROM:+0200
TZOFFSETTO:+0100
TZNAME:CET
DTSTART:20241027T010000
END:STANDARD
BEGIN:DAYLIGHT
TZOFFSETFROM:+0100
TZOFFSETTO:+0200
TZNAME:CEST
DTSTART:20250330T010000
END:DAYLIGHT
BEGIN:STANDARD
TZOFFSETFROM:+0200
TZOFFSETTO:+0100
TZNAME:CET
DTSTART:20251026T010000
END:STANDARD
BEGIN:DAYLIGHT
TZOFFSETFROM:+0100
TZOFFSETTO:+0200
TZNAME:CEST
DTSTART:20260329T010000
END:DAYLIGHT
BEGIN:STANDARD
TZOFFSETFROM:+0200
TZOFFSETTO:+0100
TZNAME:CET
DTSTART:20261025T010000
END:STANDARD
END:VTIMEZONE
BEGIN:VEVENT
DTSTART;TZID=Europe/Berlin:20250610T090000
DTEND;TZID=Europe/Berlin:20250611T180000
DTSTAMP:20260421T154443
CREATED:20250617T080154Z
LAST-MODIFIED:20250922T112411Z
UID:4231-1749546000-1749664800@philosophy-cognition.com
SUMMARY:Workshop:Evaluating Artificial Consciousness
DESCRIPTION:<b>Speakers:</b><br>\nPatrick Butlin\, Joanna Bryson\, Leonard Dung\, Michele Farisco\, François Kammerer\, Johannes Kleiner\, Lucia Melloni\, Winnie
URL:https://philosophy-cognition.com/cmc/event/workshopevaluating-artificial-consciousness/
LOCATION:GA 04/187
CATEGORIES:Workshop
END:VEVENT
END:VCALENDAR